BEGIN:VCALENDAR
VERSION:2.0
PRODID:-//wp-events-plugin.com//6.6.4.4//EN
TZID:Europe/Berlin
X-WR-TIMEZONE:Europe/Berlin
BEGIN:VEVENT
UID:225@vranstaltungen.de
DTSTART;TZID=Europe/Berlin:20260511T160000
DTEND;TZID=Europe/Berlin:20260511T220000
DTSTAMP:20260422T121036Z
URL:https://vranstaltungen.de/events/ausserordentliche-generalversammlung-
 2026/
SUMMARY:Außerordentliche Generalversammlung 2026
DESCRIPTION:\nZu unserer außerordentlichen Generalversammlung laden wir Si
 e herzlich ein\, am Montag\, den 11. Mai 2026 um 16:00 Uhr in das VERDO Ku
 ltur- &amp\; Tagungszentrum Hitzacker (Elbe)\, Dr.-Helmut-Meyer-Weg 1\, 29
 456 Hitzacker (Elbe).\n\n&nbsp\;\n\n\n\nVR PLUS Altmark-Wendland eG | Am K
 leinbahnhof 5 | 29439 Lüchow\nTelefon: 05841/970-0 | Fax: 05841/970-1982\
 nE-Mail: vranstaltungen@vr-plus.de\n\n
LOCATION:VERDO Kultur- & Tagungszentrum Hitzacker (Elbe)\, Dr.-Helmut-Meyer
 -Weg 1\, Hitzacker (Elbe)\, 29456\, Deutschland
X-APPLE-STRUCTURED-LOCATION;VALUE=URI;X-ADDRESS=Dr.-Helmut-Meyer-Weg 1\, Hi
 tzacker (Elbe)\, 29456\, Deutschland;X-APPLE-RADIUS=100;X-TITLE=VERDO Kult
 ur- & Tagungszentrum Hitzacker (Elbe):geo:0,0
END:VEVENT
BEGIN:VTIMEZONE
TZID:Europe/Berlin
X-LIC-LOCATION:Europe/Berlin
BEGIN:DAYLIGHT
DTSTART:20260329T030000
TZOFFSETFROM:+0100
TZOFFSETTO:+0200
TZNAME:CEST
END:DAYLIGHT
END:VTIMEZONE
END:VCALENDAR