BEGIN:VCALENDAR
VERSION:2.0
PRODID:-//wp-events-plugin.com//6.6.4.4//EN
TZID:Europe/Berlin
X-WR-TIMEZONE:Europe/Berlin
BEGIN:VEVENT
UID:236@vranstaltungen.de
DTSTART;TZID=Europe/Berlin:20260428T190000
DTEND;TZID=Europe/Berlin:20260428T213000
DTSTAMP:20260423T080212Z
URL:https://vranstaltungen.de/events/grillabend-junglandwirte/
SUMMARY:Grillabend Junglandwirte 28.04.2026
DESCRIPTION:Wir beantworten Eure Fragen bei leckerem Grillgut und Kaltgetr
 änken zur aktuellen Lager der VR PLUS.\n\n 	wie konnte es so weit kommen?
 \n 	was passiert jetzt mit den Mitarbeitenden und Standorten in der Region
 ?\n 	gibt es Alternativen zur Trennung von Bank und Ware?\n\n&nbsp\;\n\nZu
 kunftswerkstatt\nAm Kleinbahnhof 5\, 29439 Lüchow\n\n
LOCATION:Zukunftswerkstatt Lüchow\, Am Kleinbahnhof 5\, 29439 Lüchow\, De
 utschland
X-APPLE-STRUCTURED-LOCATION;VALUE=URI;X-ADDRESS=Am Kleinbahnhof 5\, 29439 L
 üchow\, Deutschland;X-APPLE-RADIUS=100;X-TITLE=Zukunftswerkstatt Lüchow:
 geo:0,0
END:VEVENT
BEGIN:VTIMEZONE
TZID:Europe/Berlin
X-LIC-LOCATION:Europe/Berlin
BEGIN:DAYLIGHT
DTSTART:20260329T030000
TZOFFSETFROM:+0100
TZOFFSETTO:+0200
TZNAME:CEST
END:DAYLIGHT
END:VTIMEZONE
END:VCALENDAR