BEGIN:VCALENDAR
VERSION:2.0
PRODID:-//wp-events-plugin.com//6.6.4.4//EN
TZID:Europe/Berlin
X-WR-TIMEZONE:Europe/Berlin
BEGIN:VEVENT
UID:233@vranstaltungen.de
DTSTART;TZID=Europe/Berlin:20260507T190000
DTEND;TZID=Europe/Berlin:20260507T213000
DTSTAMP:20260422T135243Z
URL:https://vranstaltungen.de/events/mitgliederinformationsveranstaltung-d
 annenberg/
SUMMARY:Mitgliederinformationsveranstaltung Dannenberg 07.05.2026
DESCRIPTION:Wir laden Sie ganz herzlich zu unserer Mitgliederinformationsve
 ranstaltung am 07.05.2026 im Hotel "Alte Post"\, Marschtorstr. 6\, 29451 D
 annenberg ein.\n\nFür Verpflegung ist gesorgt.
LOCATION:Hotel "Alte Post"\, Marschtorstr. 6\, 29451 Dannenberg\, Deutschla
 nd
X-APPLE-STRUCTURED-LOCATION;VALUE=URI;X-ADDRESS=Marschtorstr. 6\, 29451 Dan
 nenberg\, Deutschland;X-APPLE-RADIUS=100;X-TITLE=Hotel \"Alte Post\":geo:0
 ,0
END:VEVENT
BEGIN:VTIMEZONE
TZID:Europe/Berlin
X-LIC-LOCATION:Europe/Berlin
BEGIN:DAYLIGHT
DTSTART:20260329T030000
TZOFFSETFROM:+0100
TZOFFSETTO:+0200
TZNAME:CEST
END:DAYLIGHT
END:VTIMEZONE
END:VCALENDAR