BEGIN:VCALENDAR
VERSION:2.0
PRODID:-//wp-events-plugin.com//6.6.4.4//EN
TZID:Europe/Berlin
X-WR-TIMEZONE:Europe/Berlin
BEGIN:VEVENT
UID:235@vranstaltungen.de
DTSTART;TZID=Europe/Berlin:20260509T120000
DTEND;TZID=Europe/Berlin:20260509T143000
DTSTAMP:20260422T135339Z
URL:https://vranstaltungen.de/events/mitgliederinformationsveranstaltung-d
 oemitz/
SUMMARY:Mitgliederinformationsveranstaltung Dömitz 09.05.2026
DESCRIPTION:Wir laden Sie ganz herzlich zu unserer Mitgliederinformationsve
 ranstaltung am 09.05.2026 im Hotel "Dömitzer Hafen"\, Hafenplatz 3\, 1930
 3 Dömitz ein.\n\nFür Verpflegung ist gesorgt.
LOCATION:Hotel "Dömitzer Hafen"\, Hafenplatz 3\, 19303 Dömitz\, Deutschla
 nd
X-APPLE-STRUCTURED-LOCATION;VALUE=URI;X-ADDRESS=Hafenplatz 3\, 19303 Dömit
 z\, Deutschland;X-APPLE-RADIUS=100;X-TITLE=Hotel \"Dömitzer Hafen\":geo:0
 ,0
END:VEVENT
BEGIN:VTIMEZONE
TZID:Europe/Berlin
X-LIC-LOCATION:Europe/Berlin
BEGIN:DAYLIGHT
DTSTART:20260329T030000
TZOFFSETFROM:+0100
TZOFFSETTO:+0200
TZNAME:CEST
END:DAYLIGHT
END:VTIMEZONE
END:VCALENDAR