BEGIN:VCALENDAR
VERSION:2.0
PRODID:-//wp-events-plugin.com//6.6.4.4//EN
TZID:Europe/Berlin
X-WR-TIMEZONE:Europe/Berlin
BEGIN:VEVENT
UID:234@vranstaltungen.de
DTSTART;TZID=Europe/Berlin:20260508T190000
DTEND;TZID=Europe/Berlin:20260508T213000
DTSTAMP:20260422T135313Z
URL:https://vranstaltungen.de/events/mitgliederinformationsveranstaltung-k
 albe/
SUMMARY:Mitgliederinformationsveranstaltung Kalbe/Milde 08.05.2026
DESCRIPTION:Wir laden Sie ganz herzlich zu unserer Mitgliederinformationsve
 ranstaltung am 08.05.2026 im Landhotel Mehrin\, Mehriner Dorfstraße 25\, 
 39624 Kalbe OT Mehrin ein.\n\nFür Verpflegung ist gesorgt.
LOCATION:Landhotel Mehrin\, Mehriner Dorfstraße 25\, 39624 Kalbe OT Mehrin
 \, Deutschland
X-APPLE-STRUCTURED-LOCATION;VALUE=URI;X-ADDRESS=Mehriner Dorfstraße 25\, 3
 9624 Kalbe OT Mehrin\, Deutschland;X-APPLE-RADIUS=100;X-TITLE=Landhotel Me
 hrin:geo:0,0
END:VEVENT
BEGIN:VTIMEZONE
TZID:Europe/Berlin
X-LIC-LOCATION:Europe/Berlin
BEGIN:DAYLIGHT
DTSTART:20260329T030000
TZOFFSETFROM:+0100
TZOFFSETTO:+0200
TZNAME:CEST
END:DAYLIGHT
END:VTIMEZONE
END:VCALENDAR