BEGIN:VCALENDAR
VERSION:2.0
PRODID:-//wp-events-plugin.com//6.6.4.4//EN
TZID:Europe/Berlin
X-WR-TIMEZONE:Europe/Berlin
BEGIN:VEVENT
UID:227@vranstaltungen.de
DTSTART;TZID=Europe/Berlin:20260505T190000
DTEND;TZID=Europe/Berlin:20260505T213000
DTSTAMP:20260422T135156Z
URL:https://vranstaltungen.de/events/mitgliederinformationsveranstaltung-l
 uechow/
SUMMARY:Mitgliederinformationsveranstaltung Lüchow 05.05.2026
DESCRIPTION:Wir laden Sie ganz herzlich zu unserer Mitgliederinformationsve
 ranstaltung am 05.05.2026 im Gildehaus\, Tannenbergstraße 1\, 29439 Lüch
 ow ein.\n\nFür Verpflegung ist gesorgt.
LOCATION:Gildehaus Lüchow\, Tannenbergstraße 1\, 29439 Lüchow\, Deutschl
 and
X-APPLE-STRUCTURED-LOCATION;VALUE=URI;X-ADDRESS=Tannenbergstraße 1\, 29439
  Lüchow\, Deutschland;X-APPLE-RADIUS=100;X-TITLE=Gildehaus Lüchow:geo:0,
 0
END:VEVENT
BEGIN:VTIMEZONE
TZID:Europe/Berlin
X-LIC-LOCATION:Europe/Berlin
BEGIN:DAYLIGHT
DTSTART:20260329T030000
TZOFFSETFROM:+0100
TZOFFSETTO:+0200
TZNAME:CEST
END:DAYLIGHT
END:VTIMEZONE
END:VCALENDAR