BEGIN:VCALENDAR
VERSION:2.0
PRODID:-//wp-events-plugin.com//6.6.4.4//EN
TZID:Europe/Berlin
X-WR-TIMEZONE:Europe/Berlin
BEGIN:VEVENT
UID:231@vranstaltungen.de
DTSTART;TZID=Europe/Berlin:20260509T173000
DTEND;TZID=Europe/Berlin:20260509T200000
DTSTAMP:20260422T135407Z
URL:https://vranstaltungen.de/events/mitgliederinformationsveranstaltung-w
 ittingen/
SUMMARY:Mitgliederinformationsveranstaltung Wittingen 09.05.2026
DESCRIPTION:Wir laden Sie ganz herzlich zu unserer Mitgliederinformationsve
 ranstaltung am 09.05.2026 in das Hotel "Wittinger Hof"\, Salzwedeler Str\,
  4\, 29378 Wittingen ein.\n\nFür Verpflegung ist gesorgt.
LOCATION:Hotel Wittinger Tor\, Salzwedeler Str. 4\, 29378 Wittingen\, Deuts
 chland
X-APPLE-STRUCTURED-LOCATION;VALUE=URI;X-ADDRESS=Salzwedeler Str. 4\, 29378 
 Wittingen\, Deutschland;X-APPLE-RADIUS=100;X-TITLE=Hotel Wittinger Tor:geo
 :0,0
END:VEVENT
BEGIN:VTIMEZONE
TZID:Europe/Berlin
X-LIC-LOCATION:Europe/Berlin
BEGIN:DAYLIGHT
DTSTART:20260329T030000
TZOFFSETFROM:+0100
TZOFFSETTO:+0200
TZNAME:CEST
END:DAYLIGHT
END:VTIMEZONE
END:VCALENDAR